Workbook

Sheet Výdavky 1-12 2015
D1: Čerpanie programového rozpočtu obce Lednické Rovne za obdobie 01 - 12/2015 | P1: Príloha č.1
E3: Funkčná a ekonomická klasifikácia výdavkov , v eurách
A4: Pod | B4: Podtrieda | C4: Rozpočtová | D4: Kód | F4: Pôvodný | G4: I.úprava | H4: II.úprava | I4: III.úprava | J4: IV.úprava | K4: V.úprava | L4: VI.úprava | M4: VII.úprava | N4: VIII.úprava | O4: IX.úprava | P4: Čerpanie | Q4: % plnenia rozp.
A5: prog | B5: funkčnej | C5: položka | D5: zdroja | E5: Text | F5: rozpočet | G5: rozpočtu | H5: rozpočtu | I5: rozpočtu | J5: rozpočtu | K5: rozpočtu | L5: rozpočtu | M5: rozpočtu | N5: rozpočtu | O5: rozpočtu | P5: rozpočtu | Q5: z posl.úpravy
A6: ram | B6: klasifi | F6: r.2015 | G6: za r.2015 | H6: za r.2015 | I6: za r.2015 | J6: za r.2015 | K6: za r.2015 | L6: za r.2015 | M6: za r.2015 | N6: za r.2015 | O6: za r.2015 | P6: za 1-12/2015 | Q6: za r.2015
B7: kácie | F7: v € | G7: v € | H7: v € | I7: v € | J7: v € | K7: v € | L7: v € | M7: v € | N7: v € | O7: v € | P7: v € | Q7: v €
E8: Bežné výdavky podľa programov
A9: Program 1 : Plánovanie, manažment a kontrola
B10: Podprogram 1.1: Činnosť a prevádzka obecného úradu
E11: Všeobecné verejné služby
A12: 1.1. | B12: 01,1,1 | C12: 611 | D12: 41 | E12: Správa OcÚ - mzdy financované z rozp.obce | F12: 150866 | G12: 142866 | H12: 142866 | I12: 142866 | J12: 142866 | K12: 142866 | L12: 142866 | M12: 142866 | N12: 142866 | O12: 142866 | P12: 134501.29 | Q12: =SUM(P12/O12)*100 -> 94.145066
C13: 621-625007 | D13: 41 | E13: - odvody do fondov-fin.z rozp.obce | F13: 52728 | G13: 49728 | H13: 49728 | I13: 49728 | J13: 49728 | K13: 49728 | L13: 49728 | M13: 49728 | N13: 49728 | O13: 49728 | P13: 48437.79 | Q13: =SUM(P13/O13)*100 -> 97.405466
C14: 611-01 | D14: 41 | E14: Zeleň - mzdy fin. z rozp. obce | F14: 48019 | G14: 48019 | H14: 48019 | I14: 48019 | J14: 48019 | K14: 48019 | L14: 48019 | M14: 48019 | N14: 48019 | O14: 48019 | P14: 49170.66 | Q14: =SUM(P14/O14)*100 -> 102.39834
C15: 611-02 | D15: 111 | E15: Pren.výkon št.spr.-ochrana prírody,ovzdušia-mzdy fin.ŠR | F15: 423 | G15: 423 | H15: 423 | I15: 423 | J15: 423 | K15: 423 | L15: 423 | M15: 423 | N15: 383 | O15: 383 | P15: 383.31 | Q15: =SUM(P15/O15)*100 -> 100.08094
C16: 621-625007 | D16: 41 | E16: Zeleň - odvody do fondov - fin.z rozp. obce | F16: 16931 | G16: 16931 | H16: 16931 | I16: 16931 | J16: 16931 | K16: 16931 | L16: 16931 | M16: 16931 | N16: 16931 | O16: 16931 | P16: 16693.37 | Q16: =SUM(P16/O16)*100 -> 98.59648
C17: 625 | D17: 41 | E17: Správa OcU-sociálne-odvody z dohody o prac.činn. | F17: 517 | G17: 517 | H17: 517 | I17: 517 | J17: 517 | K17: 517 | L17: 517 | M17: 517 | N17: 710 | O17: 710 | P17: 709.61 | Q17: =SUM(P17/O17)*100 -> 99.94507
C18: 625 | D18: 41 | E18: Správa OcU-evid.obyvateľstva-odvody z dohody o prac.činn. | F18: 0 | G18: 0 | H18: 0 | I18: 0 | J18: 0 | K18: 0 | L18: 0 | M18: 0 | N18: 147 | O18: 147 | P18: 195.48 | Q18: =SUM(P18/O18)*100 -> 132.97959
C19: 631001 | D19: 41 | E19: Správa OcÚ - cestovné náhrady | F19: 150 | G19: 150 | H19: 150 | I19: 150 | J19: 150 | K19: 150 | L19: 150 | M19: 150 | N19: 200 | O19: 200 | P19: 157.39 | Q19: =SUM(P19/O19)*100 -> 78.695
C20: 631003 | D20: 41 | E20: - parkovné | F20: 150 | G20: 150 | H20: 150 | I20: 150 | J20: 150 | K20: 150 | L20: 150 | M20: 150 | N20: 150 | O20: 150 | P20: 139.14 | Q20: =SUM(P20/O20)*100 -> 92.76
C21: 632001 | D21: 41 | E21: - el. energia | F21: 4980 | G21: 4980 | H21: 4980 | I21: 4980 | J21: 4980 | K21: 4980 | L21: 4980 | M21: 4980 | N21: 2763 | O21: 2763 | P21: 2762.72 | Q21: =SUM(P21/O21)*100 -> 99.989866
C22: 632001-01 | D22: 41 | E22: Zeleň,odpadové hospodárstvo- el. energia | F22: 1330 | G22: 1330 | H22: 1330 | I22: 1330 | J22: 1330 | K22: 1330 | L22: 1330 | M22: 1330 | N22: 1302 | O22: 1302 | P22: 1302.33 | Q22: =SUM(P22/O22)*100 -> 100.02535
C23: 632001-03 | D23: 41 | E23: Správa OcÚ, hotel - plyn | F23: 8300 | G23: 8300 | H23: 8300 | I23: 8300 | J23: 8300 | K23: 8300 | L23: 8300 | M23: 8300 | N23: 8300 | O23: 8300 | P23: 7227.98 | Q23: =SUM(P23/O23)*100 -> 87.084096
C24: 632001-04 | D24: 41 | E24: Zeleň - plyn,uhlie | F24: 1990 | G24: 1990 | H24: 1990 | I24: 1990 | J24: 1990 | K24: 1990 | L24: 1990 | M24: 1990 | N24: 1990 | O24: 1990 | P24: 1080.37 | Q24: =SUM(P24/O24)*100 -> 54.28995
C25: 632001-05 | D25: 41 | E25: Správa OcÚ - vodné | F25: 660 | G25: 660 | H25: 660 | I25: 660 | J25: 660 | K25: 660 | L25: 660 | M25: 660 | N25: 660 | O25: 660 | P25: 649.67 | Q25: =SUM(P25/O25)*100 -> 98.434848
C26: 632001-06 | D26: 41 | E26: Zrážková voda v obci | F26: 760 | G26: 760 | H26: 760 | I26: 760 | J26: 760 | K26: 760 | L26: 760 | M26: 760 | N26: 760 | O26: 760 | P26: 790.28 | Q26: =SUM(P26/O26)*100 -> 103.98421
C27: 632001-07 | D27: 41 | E27: Zeleň,odpadové hospodárstvo - vodné | F27: 430 | G27: 430 | H27: 430 | I27: 430 | J27: 430 | K27: 430 | L27: 430 | M27: 430 | N27: 430 | O27: 430 | P27: 153.13 | Q27: =SUM(P27/O27)*100 -> 35.611628
C28: 632003 | D28: 41 | E28: Správa OcÚ - telef.popl. | F28: 5000 | G28: 5000 | H28: 5000 | I28: 5000 | J28: 5000 | K28: 5000 | L28: 5000 | M28: 5000 | N28: 5000 | O28: 5000 | P28: 3719.26 | Q28: =SUM(P28/O28)*100 -> 74.3852
C29: 632003-01 | D29: 41 | E29: Zeleň - telef.popl. | F29: 300 | G29: 300 | H29: 300 | I29: 300 | J29: 300 | K29: 300 | L29: 300 | M29: 300 | N29: 300 | O29: 300 | P29: 251.89 | Q29: =SUM(P29/O29)*100 -> 83.963333
C30: 632003-03 | D30: 41 | E30: Správa OcÚ - pošt.služby,známky, rozvoz letákov | F30: 2100 | G30: 2100 | H30: 2100 | I30: 2100 | J30: 2100 | K30: 2100 | L30: 2100 | M30: 2100 | N30: 2100 | O30: 2100 | P30: 1519.8 | Q30: =SUM(P30/O30)*100 -> 72.371429
C31: 633001 | D31: 41 | E31: Správa OcÚ - kanc.stolička a vybavenie | F31: 0 | G31: 0 | H31: 0 | I31: 0 | J31: 0 | K31: 0 | L31: 0 | M31: 0 | N31: 639 | O31: 639 | P31: 993.19 | Q31: =SUM(P31/O31)*100 -> 155.42879
C32: 633003 | D32: 41 | E32: Správa OcÚ - zabezpečovací systém-signalizácia | F32: 0 | G32: 0 | H32: 1243 | I32: 1243 | J32: 1243 | K32: 1243 | L32: 1243 | M32: 1243 | N32: 1243 | O32: 1243 | P32: 1242.97 | Q32: =SUM(P32/O32)*100 -> 99.997586
C33: 633004 | D33: 41 | E33: Zeleň-nákup elektrocentrály, krovinorez | F33: 0 | G33: 0 | H33: 0 | I33: 0 | J33: 0 | K33: 0 | L33: 0 | M33: 0 | N33: 1526 | O33: 1526 | P33: 2315.5 | Q33: =SUM(P33/O33)*100 -> 151.73657
C34: 633006-01 | D34: 41 | E34: Správa OcÚ - kanc.potreby, OZ-plánov.kalendáre | F34: 1940 | G34: 1940 | H34: 1940 | I34: 1940 | J34: 1940 | K34: 1940 | L34: 1940 | M34: 1940 | N34: 1940 | O34: 1940 | P34: 2127.99 | Q34: =SUM(P34/O34)*100 -> 109.69021
C35: 633006-02 | D35: 41 | E35: - kanc.papier | F35: 700 | G35: 700 | H35: 700 | I35: 700 | J35: 700 | K35: 700 | L35: 700 | M35: 700 | N35: 700 | O35: 700 | P35: 463.18 | Q35: =SUM(P35/O35)*100 -> 66.168571
C36: 633002 | D36: 41 | E36: -nákup tlačiarne a repasov.výpočt.techniky | F36: 2000 | G36: 2000 | H36: 2000 | I36: 2000 | J36: 2000 | K36: 2000 | L36: 2000 | M36: 2000 | N36: 2000 | O36: 2000 | P36: 1487.54 | Q36: =SUM(P36/O36)*100 -> 74.377
C37: 633006-03 | D37: 41 | E37: Zeleň - všeobecný materiál, pracovné náradie | F37: 2000 | G37: 2000 | H37: 2000 | I37: 2000 | J37: 2000 | K37: 2000 | L37: 2000 | M37: 2000 | N37: 2000 | O37: 2000 | P37: 1008.28 | Q37: =SUM(P37/O37)*100 -> 50.414
C38: 633006 | D38: 41 | E38: Správa OcÚ-všeobecný materiál | F38: 650 | G38: 650 | H38: 650 | I38: 650 | J38: 650 | K38: 650 | L38: 650 | M38: 650 | N38: 650 | O38: 650 | P38: 727.44 | Q38: =SUM(P38/O38)*100 -> 111.91385
C39: 633006-04 | D39: 41 | E39: Správa OcÚ-čistiace,pracovné prostriedky | F39: 168 | G39: 168 | H39: 168 | I39: 168 | J39: 168 | K39: 168 | L39: 168 | M39: 168 | N39: 168 | O39: 168 | P39: 332.74 | Q39: =SUM(P39/O39)*100 -> 198.05952
C40: 633006-05 | D40: 41 | E40: Zeleň-ochran.pracovné prostriedky | F40: 660 | G40: 660 | H40: 660 | I40: 660 | J40: 660 | K40: 660 | L40: 660 | M40: 660 | N40: 660 | O40: 660 | P40: 996.02 | Q40: =SUM(P40/O40)*100 -> 150.91212
C41: 633009 | D41: 41 | E41: Správa OcÚ - tlačivá, publikácie | F41: 1000 | G41: 1000 | H41: 1000 | I41: 1000 | J41: 1000 | K41: 1000 | L41: 1000 | M41: 1000 | N41: 87 | O41: 87 | P41: 263.17 | Q41: =SUM(P41/O41)*100 -> 302.49425
C42: 633013 | D42: 41 | E42: -nákup softveru MS Windows 7 Pro | F42: 0 | G42: 0 | H42: 0 | I42: 0 | J42: 0 | K42: 0 | L42: 0 | M42: 0 | N42: 134 | O42: 134 | P42: 772.26 | Q42: =SUM(P42/O42)*100 -> 576.31343
C43: 633016 | D43: 41 | E43: - reprezentačné, propagačné mater., | F43: 1400 | G43: 1400 | H43: 1400 | I43: 1400 | J43: 1400 | K43: 1400 | L43: 1400 | M43: 1400 | N43: 1400 | O43: 1400 | P43: 1245.1 | Q43: =SUM(P43/O43)*100 -> 88.935714
C44: 634001 | D44: 41 | E44: Správa OcÚ - PHM, oleje | F44: 2200 | G44: 2200 | H44: 2200 | I44: 2200 | J44: 2200 | K44: 2200 | L44: 2200 | M44: 2200 | N44: 2200 | O44: 2200 | P44: 2125.78 | Q44: =SUM(P44/O44)*100 -> 96.626364
C45: 634001-01 | D45: 41 | E45: Zeleň - PHM, oleje, kosenie smetiska, parku | F45: 5000 | G45: 5000 | H45: 5000 | I45: 5000 | J45: 5000 | K45: 5000 | L45: 5000 | M45: 5000 | N45: 3200 | O45: 3200 | P45: 3969.22 | Q45: =SUM(P45/O45)*100 -> 124.03812
C46: 634005-07 | D46: 41 | E46: Správa a VZ-parkov.karty,popl. za STK | F46: 50 | G46: 50 | H46: 50 | I46: 50 | J46: 50 | K46: 50 | L46: 50 | M46: 50 | N46: 187 | O46: 187 | P46: 202.95 | Q46: =SUM(P46/O46)*100 -> 108.52941
C47: 634004 | D47: 41 | E47: Prepravné vlast.motor.vozidlom-spotreba PHM | F47: 0 | G47: 0 | H47: 0 | I47: 0 | J47: 0 | K47: 0 | L47: 0 | M47: 0 | N47: 0 | O47: 0 | P47: 77.81 | Q47: 0
C48: 634003 | D48: 41 | E48: Správa OcÚ - zákon.poist.vozidiel,poist.osôb vo vozidle | F48: 800 | G48: 800 | H48: 800 | I48: 800 | J48: 800 | K48: 800 | L48: 800 | M48: 800 | N48: 800 | O48: 800 | P48: 247.48 | Q48: =SUM(P48/O48)*100 -> 30.935
C49: 634003-01 | D49: 41 | E49: - havarij.poist.vozidiel | F49: 2300 | G49: 2300 | H49: 2300 | I49: 2300 | J49: 2300 | K49: 2300 | L49: 2300 | M49: 2300 | N49: 2300 | O49: 2300 | P49: 879.66 | Q49: =SUM(P49/O49)*100 -> 38.246087
C50: 635002 | D50: 41 | E50: - údržba výpočtovej techniky | F50: 400 | G50: 400 | H50: 400 | I50: 400 | J50: 400 | K50: 400 | L50: 400 | M50: 400 | N50: 400 | O50: 400 | P50: 36 | Q50: =SUM(P50/O50)*100 -> 9
C51: 635004 | D51: 41 | E51: - údržba kopír.stroja, toner | F51: 114 | G51: 114 | H51: 114 | I51: 114 | J51: 114 | K51: 114 | L51: 114 | M51: 114 | N51: 400 | O51: 400 | P51: 398.88 | Q51: =SUM(P51/O51)*100 -> 99.72
C52: 635005 | D52: 41 | E52: - údržba áut | F52: 1140 | G52: 1140 | H52: 1140 | I52: 1140 | J52: 1140 | K52: 1140 | L52: 1140 | M52: 1140 | N52: 1140 | O52: 1140 | P52: 1398.01 | Q52: =SUM(P52/O52)*100 -> 122.63246
C53: 635005-01 | D53: 41 | E53: Zeleň - údržba strojov , traktor | F53: 3500 | G53: 3500 | H53: 3500 | I53: 3500 | J53: 3500 | K53: 3500 | L53: 3500 | M53: 3500 | N53: 3500 | O53: 3500 | P53: 4911.29 | Q53: =SUM(P53/O53)*100 -> 140.32257
C54: 635005-03 | D54: 41 | E54: Správa OcÚ - servis a aktual.programov | F54: 500 | G54: 500 | H54: 500 | I54: 500 | J54: 500 | K54: 500 | L54: 500 | M54: 500 | N54: 500 | O54: 500 | P54: 421.65 | Q54: =SUM(P54/O54)*100 -> 84.33
C55: 636001-03 | D55: 41 | E55: Prenájom poštového priečinka | F55: 50 | G55: 50 | H55: 50 | I55: 50 | J55: 50 | K55: 50 | L55: 50 | M55: 50 | N55: 54 | O55: 54 | P55: 54 | Q55: =SUM(P55/O55)*100 -> 100
C56: 636003-01 | D56: 41 | E56: Správa OcÚ - portál obce | F56: 256 | G56: 256 | H56: 256 | I56: 256 | J56: 256 | K56: 256 | L56: 256 | M56: 256 | N56: 1170 | O56: 1170 | P56: 1169.82 | Q56: =SUM(P56/O56)*100 -> 99.984615
C57: 637003 | D57: 41 | E57: Inzercia na predaj nehnuteľností, výber.konanie-prac.miesta | F57: 0 | G57: 0 | H57: 0 | I57: 0 | J57: 0 | K57: 0 | L57: 0 | M57: 0 | N57: 60 | O57: 60 | P57: 180 | Q57: =SUM(P57/O57)*100 -> 300
C58: 637003-01 | D58: 41 | E58: Ozvučenie a videoprojekcia-OZ | F58: 0 | G58: 0 | H58: 0 | I58: 0 | J58: 0 | K58: 0 | L58: 0 | M58: 0 | N58: 336 | O58: 336 | P58: 336 | Q58: =SUM(P58/O58)*100 -> 100
C59: 637005-07 | D59: 41 | E59: Očkovanie psov v obci-poplatok | F59: 70 | G59: 70 | H59: 70 | I59: 70 | J59: 70 | K59: 70 | L59: 70 | M59: 70 | N59: 70 | O59: 70 | P59: 0 | Q59: =SUM(P59/O59)*100 -> 0
C60: 637005-01 | D60: 41 | E60: Zeleň-školenie BP-pilčíci,zvarač.kurz | F60: 100 | G60: 100 | H60: 100 | I60: 100 | J60: 100 | K60: 100 | L60: 100 | M60: 100 | N60: 0 | O60: 0 | P60: 0 | Q60: 0
C61: 637005-03 | D61: 41 | E61: Ostatné geodetic.práce nesúvis.s výstavbou | F61: 0 | G61: 0 | H61: 0 | I61: 0 | J61: 0 | K61: 0 | L61: 0 | M61: 0 | N61: 1000 | O61: 1000 | P61: 6513.99 | Q61: =SUM(P61/O61)*100 -> 651.399
C62: 637006-03 | D62: 41 | E62: Spoluúčasť obce na poistných udalostiach | F62: 0 | G62: 0 | H62: 0 | I62: 0 | J62: 0 | K62: 0 | L62: 0 | M62: 0 | N62: 30 | O62: 30 | P62: 30 | Q62: =SUM(P62/O62)*100 -> 100
C63: 637011 | D63: 41 | E63: Posudky,revízie | F63: 1000 | G63: 1000 | H63: 1000 | I63: 1000 | J63: 1000 | K63: 1000 | L63: 1000 | M63: 1000 | N63: 1000 | O63: 1000 | P63: 989.41 | Q63: =SUM(P63/O63)*100 -> 98.941
C64: 637012 | D64: 41 | E64: Súdne a iné poplatky,popl.STK | F64: 500 | G64: 500 | H64: 500 | I64: 500 | J64: 500 | K64: 500 | L64: 500 | M64: 500 | N64: 500 | O64: 500 | P64: 212 | Q64: =SUM(P64/O64)*100 -> 42.4
C65: 637012-3 | D65: 41 | E65: Odvod za nepln.povinn.zamestnávania občanov ZŤP | F65: 930 | G65: 930 | H65: 930 | I65: 930 | J65: 930 | K65: 930 | L65: 930 | M65: 930 | N65: 977 | O65: 977 | P65: 977 | Q65: =SUM(P65/O65)*100 -> 100
C66: 637014 | D66: 41 | E66: Správa OcÚ - výdavky na stravovanie | F66: 6930 | G66: 6930 | H66: 6930 | I66: 6930 | J66: 6930 | K66: 6930 | L66: 6930 | M66: 6930 | N66: 6930 | O66: 6930 | P66: 6295.05 | Q66: =SUM(P66/O66)*100 -> 90.837662
C67: 637014-01 | D67: 41 | E67: Zeleň - výdavky na stravovanie | F67: 3465 | G67: 3465 | H67: 3465 | I67: 3465 | J67: 3465 | K67: 3465 | L67: 3465 | M67: 3465 | N67: 3465 | O67: 3465 | P67: 3499.79 | Q67: =SUM(P67/O67)*100 -> 101.00404
C68: 637014-02 | D68: 41 | E68: Ceniny-nákup strav.lístkov na výdaj | F68: 0 | G68: 0 | H68: 0 | I68: 0 | J68: 0 | L68: 0 | M68: 0 | N68: 0 | O68: 0 | P68: 0 | Q68: 0
C69: 637015-01 | D69: 41 | E69: Správa OcÚ - združené poistenie majetku obce, osoby vo vozidle 0 | F69: 699 | G69: 699 | H69: 699 | I69: 699 | J69: 699 | K69: 699 | L69: 699 | M69: 699 | N69: 699 | O69: 699 | P69: 792.97 | Q69: =SUM(P69/O69)*100 -> 113.44349
C70: 637016 | D70: 41 | E70: - povinný prídel do soc. fondu | F70: 2400 | G70: 2400 | H70: 2400 | I70: 2400 | J70: 2400 | K70: 2400 | L70: 2400 | M70: 2400 | N70: 2400 | O70: 2400 | P70: 2820 | Q70: =SUM(P70/O70)*100 -> 117.5
C71: 637023 | D71: 41 | E71: Kolkové známky | F71: 300 | G71: 300 | H71: 300 | I71: 300 | J71: 300 | K71: 300 | L71: 300 | M71: 300 | N71: 600 | O71: 600 | P71: 591.9 | Q71: =SUM(P71/O71)*100 -> 98.65
C72: 637004 | D72: 41 | E72: OcÚ-odplata za stravenky | F72: 150 | G72: 150 | H72: 150 | I72: 150 | J72: 150 | K72: 150 | L72: 150 | M72: 150 | N72: 150 | O72: 150 | P72: 153.86 | Q72: =SUM(P72/O72)*100 -> 102.57333
C73: 642015 | D73: 41 | E73: OcÚ-nemoc.dávky do 10 dní | F73: 0 | G73: 0 | H73: 0 | I73: 0 | J73: 0 | K73: 0 | L73: 0 | M73: 0 | N73: 535 | O73: 535 | P73: 534.84 | Q73: =SUM(P73/O73)*100 -> 99.970093
C74: 642015-01 | D74: 41 | E74: Zeleň-nemoc.dávky do 10 dní | F74: 0 | G74: 0 | H74: 0 | I74: 0 | J74: 0 | K74: 0 | L74: 0 | M74: 0 | N74: 132 | O74: 132 | P74: 131.87 | Q74: =SUM(P74/O74)*100 -> 99.901515
C75: 637026 | D75: 41 | E75: Správa OcU-sociálne-dohoda o prac.činnosti | F75: 2640 | G75: 2640 | H75: 2640 | I75: 2640 | J75: 2640 | K75: 2640 | L75: 2640 | M75: 2640 | N75: 3630 | O75: 3630 | P75: 3730 | Q75: =SUM(P75/O75)*100 -> 102.75482
C76: 637026-02 | D76: 41 | E76: Správa OcU-evidencia obyvateľstva-dohoda o prac.činnosti | F76: 0 | G76: 0 | H76: 0 | I76: 0 | J76: 0 | K76: 0 | L76: 0 | M76: 0 | N76: 750 | O76: 750 | P76: 1000 | Q76: =SUM(P76/O76)*100 -> 133.33333
C77: 642012 | D77: 41 | E77: Odstupné starosta-pri ukončení funkcie | F77: 8010 | G77: 8010 | H77: 8010 | I77: 8010 | J77: 8010 | K77: 8010 | L77: 8010 | M77: 8010 | N77: 8010 | O77: 8010 | P77: 8010 | Q77: =SUM(P77/O77)*100 -> 100
C78: 621-625007 | D78: 41 | E78: Odvody do fondov z odstupného a odchodného starosta a pracovníci | F78: 2799 | G78: 2799 | H78: 2799 | I78: 2799 | J78: 2799 | K78: 2799 | L78: 2799 | M78: 2799 | N78: 2580 | O78: 2580 | P78: 0 | Q78: =SUM(P78/O78)*100 -> 0
C79: 642012-1 | D79: 41 | E79: Odstupné, odchodné-pracovníci pri ukončení a rušení pracovného miesta | F79: 0 | G79: 0 | H79: 0 | I79: 0 | J79: 0 | K79: 0 | L79: 0 | M79: 0 | N79: 10588 | O79: 10588 | P79: 10587.5 | Q79: =SUM(P79/O79)*100 -> 99.995278
A80: 1.1. | E80: Spolu | F80: =SUM(F12:F79) -> 352455 | G80: =SUM(G11:G79) -> 341455 | H80: =SUM(H12:H79) -> 342698 | I80: =SUM(I12:I79) -> 342698 | J80: =SUM(J12:J79) -> 342698 | K80: =SUM(K12:K79) -> 342698 | L80: =SUM(L12:L79) -> 342698 | M80: =SUM(M11:M79) -> 342698 | N80: =SUM(N11:N79) -> 356179 | O80: =SUM(O11:O79) -> 356179 | P80: =SUM(P11:P79) -> 347099.58 | Q80: =SUM(P80/O80)*100 -> 97.450883 | T80: =SUM(O80) -> 356179 | U80: =SUM(P80) -> 347099.58
B81: Podprogram 1.2: Obecná rada, obecné zastupiteľstvo, zástupca starostu, komisie
A82: 1.2. | C82: 637026.61 | D82: 41 | E82: Obec.zastupit., uvoľ.posl.-zástupca starostu-mzda, komisie-odmeny | F82: 23140 | G82: 23140 | H82: 23140 | I82: 23140 | J82: 23140 | K82: 23140 | L82: 23140 | M82: 23140 | N82: 23140 | O82: 23140 | P82: 15183.68 | Q82: =SUM(P82/O82)*100 -> 65.616595
C83: 625003-03 | D83: 41 | E83: Obec.zastupit., uvoľ.posl.-zástupca starostu-odvody do fondov | F83: 5180 | G83: 5180 | H83: 5180 | I83: 5180 | J83: 5180 | K83: 5180 | L83: 5180 | M83: 5180 | N83: 5180 | O83: 5180 | P83: 5299.14 | Q83: =SUM(P83/O83)*100 -> 102.3
A84: 1.2. | E84: Spolu | F84: =SUM(F82:F83) -> 28320 | G84: =SUM(G82:G83) -> 28320 | H84: =SUM(H82:H83) -> 28320 | I84: =SUM(I82:I83) -> 28320 | J84: =SUM(J82:J83) -> 28320 | K84: =SUM(K82:K83) -> 28320 | L84: =SUM(L82:L83) -> 28320 | M84: =SUM(M82:M83) -> 28320 | ... P84: =SUM(P82:P83) -> 20482.82 | Q84: =SUM(P84/O84)*100 -> 72.326342 | T84: =SUM(O84) -> 28320 | U84: =SUM(P84) -> 20482.82
B85: Podprogram 1.3: Kontrolór, audit
B86: 01,1,2 | E86: Finančná a rozpočtová oblasť
A87: 1.3. | C87: 611-01 | D87: 41 | E87: Mzda kontrolóra | F87: 2650 | G87: 2650 | H87: 2650 | I87: 2650 | J87: 2650 | K87: 2650 | L87: 2650 | M87: 2650 | N87: 2650 | O87: 2650 | P87: 2000 | Q87: =SUM(P87/O87)*100 -> 75.471698
C88: 621-625007 | D88: 41 | E88: Kontrolór - odvody do fondov | F88: 926 | G88: 926 | H88: 926 | I88: 926 | J88: 926 | K88: 926 | L88: 926 | M88: 926 | N88: 926 | O88: 926 | P88: 618.96 | Q88: =SUM(P88/O88)*100 -> 66.842333
C89: 637001 | D89: 41 | E89: Kontrolór - poplatky za školenie,cestovné | F89: 0 | G89: 0 | H89: 0 | I89: 0 | J89: 0 | K89: 0 | L89: 0 | M89: 0 | N89: 0 | O89: 0 | P89: 18 | Q89: 0
A90: 1.3. | C90: 637011 | D90: 41 | E90: Audítorské služby | F90: 2500 | G90: 2500 | H90: 2500 | I90: 2500 | J90: 2500 | K90: 2500 | L90: 2500 | M90: 2500 | N90: 2500 | O90: 2500 | P90: 2900 | Q90: =SUM(P90/O90)*100 -> 116
C91: 637005 | D91: 41 | E91: Poskytovanie právnych služieb-JUDr.Bušfy | F91: 2880 | G91: 13880 | H91: 13880 | I91: 13880 | J91: 13880 | K91: 13880 | L91: 13880 | M91: 13880 | N91: 13880 | O91: 13880 | P91: 13409.18 | Q91: =SUM(P91/O91)*100 -> 96.607925
A92: 1.3. | C92: 637012 | D92: 41 | E92: Poplatky bankám-za vedenie účtov,poskyt.údajov pre audit | F92: 1800 | G92: 1800 | H92: 1800 | I92: 1800 | J92: 1800 | K92: 1800 | L92: 1800 | M92: 1800 | N92: 1800 | O92: 1800 | P92: 2359.76 | Q92: =SUM(P92/O92)*100 -> 131.09778
C93: 637035 | D93: 41 | E93: Banka zrážková daň | F93: 10 | G93: 10 | H93: 10 | I93: 10 | J93: 10 | K93: 10 | L93: 10 | M93: 10 | N93: 10 | O93: 10 | P93: 10.65 | Q93: =SUM(P93/O93)*100 -> 106.5
A94: 1.3. | E94: Spolu | F94: =SUM(F87:F93) -> 10766 | G94: =SUM(G87:G93) -> 21766 | H94: =SUM(H87:H93) -> 21766 | I94: =SUM(I87:I93) -> 21766 | J94: =SUM(J87:J93) -> 21766 | K94: =SUM(K87:K93) -> 21766 | L94: =SUM(L87:L93) -> 21766 | M94: =SUM(M87:M93) -> 21766 | N94: =SUM(N86:N93) -> 21766 | O94: =SUM(O86:O93) -> 21766 | P94: =SUM(P86:P93) -> 21316.55 | Q94: =SUM(P94/O94)*100 -> 97.935082 | T94: =SUM(O94) -> 21766 | U94: =SUM(P94) -> 21316.55
A95: 1.5. | B95: 01,6,0 | E95: Výdavky-Referendum 2015-bežné výdavky
C96: 633.637 | D96: 111 | E96: Výdavky-Referendum 2015-bežné výdavky | F96: 0 | G96: 0 | H96: 0 | I96: 0 | J96: 0 | K96: 0 | L96: 0 | M96: 0 | N96: 2214 | O96: 2214 | P96: 2214.81 | Q96: =SUM(P96/O96)*100 -> 100.03659
A97: 1.5. | E97: Spolu | F97: =SUM(F96) -> 0 | G97: =SUM(G96) -> 0 | H97: =SUM(H96) -> 0 | I97: =SUM(I96) -> 0 | J97: =SUM(J96) -> 0 | K97: =SUM(K96) -> 0 | L97: =SUM(L96) -> 0 | M97: =SUM(M96) -> 0 | ... P97: =SUM(P96) -> 2214.81 | Q97: =SUM(P97/O97)*100 -> 100.03659 | T97: =SUM(O97) -> 2214 | U97: =SUM(P97) -> 2214.81
A98: Program 4: Služby občanom
B99: Podprogram 4.2: Matrika
A100: 4.2. | B100: 01,3,3 | C100: 611-02 | D100: 111 | E100: Matrika - mzdy finan.zo ŠR | F100: 6399 | G100: 6399 | H100: 6399 | I100: 6399 | J100: 6399 | K100: 6399 | L100: 6399 | M100: 6399 | N100: 6399 | O100: 6399 | P100: 6399 | Q100: =SUM(P100/O100)*100 -> 100
C101: 611 | D101: 41 | E101: - mzdy finan.z rozp. obce | F101: 3820 | G101: 3820 | H101: 3820 | I101: 3820 | J101: 3820 | K101: 3820 | L101: 3820 | M101: 3820 | N101: 3820 | O101: 3820 | P101: 4420.78 | Q101: =SUM(P101/O101)*100 -> 115.72723
...

Sheet Príjmy 1-12 2015
D1: Čerpanie programového rozpočtu obce Lednické Rovne za obdobie 01 - 12/2015 | O1: Príloha č.1
A3: Funkčná a ekonomická klasifikácia príjmov , v eurách
A4: Usmernenie ku kódovaniu zdrojov pri uskutočnených príjmoch a výdavkoch rozpočtových
A5: prostriedkov obce.
A6: Kód zdroja 111- finančné prostriedky poskytnuté zo štátneho rozpočtu prostredníctvom transferov
A7: a výdavky uskutoč. z týchto prostriedkov, fin. prostriedky zo ŠR na prenesený výkon štátnej správy.
A8: Kód zdroja 11H - finančné prostriedky získané z darov, grantov a ich použitie vo výdavkoch
A9: Kód zdroja 52- prijaté bankové úvery obcou a ich čerpanie vo výdavkoch
A10: Kód zdroja 41- príjmy z daní a poplatkov, príjmy z prenájmu a služieb, podielové dane a následne uskutočnené výdavky z týchto prostriedkov
A11: Kód zdroja 43 - príjmy z predaja majetku obce a následné použitie týchto prostriedkov na uskutočnené kapitálové výdavky
A12: Kód zdroja 1318- prebytok hospodárenia za uplynulý rok-nevyčerpané dotácie
A13: Kód zdroja 46- iné zdroje-prebytok hospodárenia za uplynulý rok
A14: Kód zdroja 11K1- dotácie z európ.fondu reg.rozvoja, so spoluúčasťou zo ŠR
... A16: Kód zdroja 1AC2- dotácie ÚPSVaR-park
D17: Bežné príjmy
A18: Rozpoč. | B18: Rozpočtová | C18: Kód | E18: Pôvodný | F18: I.úprava | G18: II.úprava | H18: III.úprava | I18: IV.úprava | J18: V.úprava | K18: VI.úprava | L18: VII.úprava | M18: VIII.úprava | N18: IX.úprava | O18: Čerpanie | P18: % plnenia rozp.
A19: položka | B19: podpoložka | C19: zdroja | D19: Text | E19: rozpočet | F19: rozpočtu | G19: rozpočtu | H19: rozpočtu | I19: rozpočtu | J19: rozpočtu | K19: rozpočtu | L19: rozpočtu | M19: rozpočtu | N19: rozpočtu | O19: rozpočtu | P19: z posl.úpravy
E20: r.2015 | F20: za r.2015 | G20: za r.2015 | H20: za r.2015 | I20: za r.2015 | J20: za r.2015 | K20: za r.2015 | L20: za r.2015 | M20: za r.2015 | N20: za r.2015 | O20: za 1-12/2015 | P20: za r.2015
E21: v € | F21: v € | G21: v € | H21: v € | I21: v € | J21: v € | K21: v € | L21: v € | M21: v € | N21: v € | O21: v € | P21: v €
A24: 100 | D24: A) DAŇOVÉ PRÍJMY
A25: 110 | D25: Dane z príjmov, ziskov a kapitálového majetku od FO,PO
A26: 111 | D26: Daň z príjmov fyzických osôb
B27: 111003 | C27: 41 | D27: Výnos dane z príjmov poukázaný územnej samospráve | E27: 871944 | F27: 880937 | G27: 937061 | H27: 937061 | I27: 947378 | J27: 947378 | K27: 947378 | L27: 947378 | M27: 963970 | N27: 963970 | O27: 958724.07 | P27: =SUM(O27/N27)*100 -> 99.455799
D28: Spolu | E28: =SUM(E27) -> 871944 | F28: =SUM(F27) -> 880937 | G28: =SUM(G27) -> 937061 | H28: =SUM(H27) -> 937061 | I28: =SUM(I27) -> 947378 | J28: =SUM(J27) -> 947378 | K28: =SUM(K27) -> 947378 | L28: =SUM(L27) -> 947378 | ... O28: =SUM(O27) -> 958724.07 | P28: =SUM(O28/N28)*100 -> 99.455799 | S28: =SUM(N28) -> 963970 | T28: =SUM(O28) -> 958724.07
A29: 120 | D29: Daň z majetku
B30: 121001 | C30: 41 | D30: Daň z nehnuteľností - pozemky | E30: 12000 | F30: 12000 | G30: 12000 | H30: 12000 | I30: 12000 | J30: 12000 | K30: 12000 | L30: 12000 | M30: 12000 | N30: 12000 | O30: 11870.68 | P30: =SUM(O30/N30)*100 -> 98.922333
B31: 121002 | C31: 41 | D31: Daň z nehnuteľností - stavby | E31: 220000 | F31: 220000 | G31: 220000 | H31: 220000 | I31: 220000 | J31: 220000 | K31: 220000 | L31: 220000 | M31: 220000 | N31: 220000 | O31: 224814.09 | P31: =SUM(O31/N31)*100 -> 102.18822
D32: Spolu | E32: =SUM(E30:E31) -> 232000 | F32: =SUM(F30:F31) -> 232000 | G32: =SUM(G30:G31) -> 232000 | H32: =SUM(H30:H31) -> 232000 | I32: =SUM(I30:I31) -> 232000 | J32: =SUM(J30:J31) -> 232000 | K32: =SUM(K30:K31) -> 232000 | L32: =SUM(L30:L31) -> 232000 | ... O32: =SUM(O30:O31) -> 236684.77 | P32: =SUM(O32/N32)*100 -> 102.0193 | S32: =SUM(N32) -> 232000 | T32: =SUM(O32) -> 236684.77
A33: 133 | D33: Dane za špecifické služby
B34: 133001 | C34: 41 | D34: Daň - za psa | E34: 1000 | F34: 1000 | G34: 1000 | H34: 1000 | I34: 1000 | J34: 1000 | K34: 1000 | L34: 1000 | M34: 1000 | N34: 1000 | O34: 1106.68 | P34: =SUM(O34/N34)*100 -> 110.668
B35: 133012 | C35: 41 | D35: Daň za užívanie verej.priestranstva-tržnica | E35: 40 | F35: 40 | G35: 40 | H35: 40 | I35: 40 | J35: 40 | K35: 40 | L35: 40 | M35: 100 | N35: 100 | O35: 146.15 | P35: =SUM(O35/N35)*100 -> 146.15
B36: 133006 | C36: 41 | D36: Daň za ubytovanie | E36: 60 | F36: 60 | G36: 60 | H36: 60 | I36: 60 | J36: 60 | K36: 60 | L36: 60 | M36: 60 | N36: 60 | O36: 53.13 | P36: =SUM(O36/N36)*100 -> 88.55
B37: 133012-01 | C37: 41 | D37: Daň za užívanie verej.priestranstva-unimobunky | E37: 0 | F37: 0 | G37: 0 | H37: 0 | I37: 0 | J37: 0 | K37: 0 | L37: 0 | M37: 233 | N37: 233 | O37: 604.76 | P37: =SUM(O37/N37)*100 -> 259.55365
B38: 133013-01 | C38: 41 | D38: Miestny poplatok za komunálny odpad - FO | E38: 78700 | F38: 78700 | G38: 78700 | H38: 78700 | I38: 78700 | J38: 78700 | K38: 78700 | L38: 78700 | M38: 78700 | N38: 78700 | O38: 72542.94 | P38: =SUM(O38/N38)*100 -> 92.176544
B39: 133013-02 | C39: 41 | D39: Miestny poplatok za komunálny odpad - PO | E39: 17712 | F39: 17712 | G39: 17712 | H39: 17712 | I39: 17712 | J39: 17712 | K39: 17712 | L39: 17712 | M39: 17712 | N39: 17712 | O39: 19982.69 | P39: =SUM(O39/N39)*100 -> 112.82007
B40: 133013-04 | C40: 41 | D40: Poplatky za uloženie odpadu na skládku Podstránie-Megawaste | E40: 82100 | F40: 82100 | G40: 82100 | H40: 82100 | I40: 82100 | J40: 82100 | K40: 82100 | L40: 82100 | M40: 82100 | N40: 82100 | O40: 68346.52 | P40: =SUM(O40/N40)*100 -> 83.247893
B41: 134001 | C41: 41 | D41: Obv.ban.úrad-z vyť.ner.surovín-DP Beluša | E41: 101 | F41: 101 | G41: 101 | H41: 101 | I41: 101 | J41: 101 | K41: 101 | L41: 101 | M41: 101 | N41: 101 | O41: 101.18 | P41: =SUM(O41/N41)*100 -> 100.17822
D42: Spolu | E42: =SUM(E34:E41) -> 179713 | F42: =SUM(F34:F41) -> 179713 | G42: =SUM(G34:G41) -> 179713 | H42: =SUM(H34:H41) -> 179713 | I42: =SUM(I34:I41) -> 179713 | J42: =SUM(J34:J41) -> 179713 | K42: =SUM(K34:K41) -> 179713 | L42: 179713 | M42: =SUM(M34:M41) -> 180006 | N42: =SUM(N34:N41) -> 180006 | O42: =SUM(O34:O41) -> 162884.05 | P42: =SUM(O42/N42)*100 -> 90.488123 | S42: =SUM(N42) -> 180006 | T42: =SUM(O42) -> 162884.05
A43: 200 | D43: B) NEDAŇOVÉ PRÍJMY
A44: 211 | D44: I. Príjmy z podnikania
B45: 211003 | C45: 41 | D45: Dividendy - Dexia banka | E45: 0 | F45: 0 | G45: 0 | H45: 0 | I45: 0 | J45: 0 | K45: 0 | L45: 0 | M45: 0 | N45: 0 | O45: 0 | P45: 0
D46: Spolu | E46: =SUM(E45) -> 0 | F46: =SUM(F45) -> 0 | G46: =SUM(G45) -> 0 | H46: =SUM(H45) -> 0 | I46: =SUM(I45) -> 0 | J46: =SUM(J45) -> 0 | K46: =SUM(K45) -> 0 | L46: =SUM(L45) -> 0 | ... O46: =SUM(O45) -> 0 | P46: 0 | S46: =SUM(N46) -> 0 | T46: =SUM(O46) -> 0
A47: 212 | D47: II. Príjmy z vlastníctva majetku
B48: 212002 | C48: 41 | D48: z prenajatých pozemkov, z reklam.tabúľ | E48: 700 | F48: 700 | G48: 700 | H48: 700 | I48: 700 | J48: 700 | K48: 700 | L48: 700 | M48: 700 | N48: 700 | O48: 353.22 | P48: =SUM(O48/N48)*100 -> 50.46
B49: 212002-4 | C49: 41 | D49: z prenajatých pozemkov,ČILINGOVÁ-ZMRZLINA | E49: 0 | M49: 281 | N49: 281 | O49: 450 | P49: =SUM(O49/N49)*100 -> 160.14235
B50: 212002-01 | C50: 41 | D50: z prenajatých pozemkov-Koyš I.-pod garážou | M50: 87 | N50: 87 | O50: 87.49 | P50: =SUM(O50/N50)*100 -> 100.56322
B51: 212003 | C51: 41 | D51: prenájom budov - Centrum pre rodinu | E51: 30 | F51: 30 | G51: 30 | H51: 30 | I51: 30 | J51: 30 | K51: 30 | L51: 30 | M51: 80 | N51: 80 | O51: 79.66 | P51: =SUM(O51/N51)*100 -> 99.575
B52: 212003-02 | C52: 41 | D52: - Hotel, Barková | E52: 4780 | F52: 4780 | G52: 4780 | H52: 4780 | I52: 4780 | J52: 4780 | K52: 4780 | L52: 4780 | M52: 4780 | N52: 4780 | O52: 2389.98 | P52: =SUM(O52/N52)*100 -> 49.999582
B53: 212003-03 | C53: 41 | D53: - VÚB | E53: 3392 | F53: 3392 | G53: 3392 | H53: 3392 | I53: 3392 | J53: 3392 | K53: 3392 | L53: 3392 | M53: 3392 | N53: 3392 | O53: 3392.4 | P53: =SUM(O53/N53)*100 -> 100.01179
B54: 212003-05 | C54: 41 | D54: - nájomné byty - 20 b.j.I.et. - Súhradka č.248 | E54: 24300 | F54: 24300 | G54: 24300 | H54: 24300 | I54: 24300 | J54: 24300 | K54: 24300 | L54: 24300 | M54: 24300 | N54: 24300 | O54: 25283.59 | P54: =SUM(O54/N54)*100 -> 104.0477
B55: 212003-07 | C55: 41 | D55: - nájomné byty - 20 b.j.II.etapa - Súhradka č.247 | E55: 33590 | F55: 33590 | G55: 33590 | H55: 33590 | I55: 33590 | J55: 33590 | K55: 33590 | L55: 33590 | M55: 33590 | N55: 33590 | O55: 33574.28 | P55: =SUM(O55/N55)*100 -> 99.9532
B56: 212003-06 | C56: 41 | D56: - miestnosti v Kultúrnom dome Hor.Hôrka | E56: 170 | F56: 170 | G56: 170 | H56: 170 | I56: 170 | J56: 170 | K56: 170 | L56: 170 | M56: 170 | N56: 170 | O56: 212 | P56: =SUM(O56/N56)*100 -> 124.70588
B57: 212003-09 | C57: 41 | D57: -miestnosti v Kultúrnom dome Medné | E57: 200 | F57: 200 | G57: 200 | H57: 200 | I57: 200 | J57: 200 | K57: 200 | L57: 200 | M57: 200 | N57: 200 | O57: 157 | P57: =SUM(O57/N57)*100 -> 78.5
B58: 212003-11 | C58: 41 | D58: -nájomné za výmen.stanice | E58: 50 | F58: 50 | G58: 50 | H58: 50 | I58: 50 | J58: 50 | K58: 50 | L58: 50 | M58: 50 | N58: 50 | O58: 100 | P58: =SUM(O58/N58)*100 -> 200
B59: 212003-04 | C59: 41 | D59: prenájom budovy-Infocentrum Námestie LR- | E59: 1272 | F59: 1272 | G59: 1272 | H59: 1272 | I59: 1272 | J59: 1272 | K59: 1272 | L59: 1272 | M59: 1272 | N59: 1272 | O59: 1378 | P59: =SUM(O59/N59)*100 -> 108.33333
B60: 212003-08 | C60: 41 | D60: - služobný byt | E60: 1100 | F60: 1100 | G60: 1100 | H60: 1100 | I60: 1100 | J60: 1100 | K60: 1100 | L60: 1100 | M60: 743 | N60: 743 | O60: 725.5 | P60: =SUM(O60/N60)*100 -> 97.644684
B61: 212003-13 | C61: 41 | D61: Prenájom zasadačky Ledrov | E61: 0 | F61: 0 | G61: 0 | H61: 0 | I61: 0 | J61: 0 | K61: 0 | L61: 0 | M61: 100 | N61: 100 | O61: 65 | P61: =SUM(O61/N61)*100 -> 65
B62: 212003-14 | C62: 41 | D62: Megawaste-prenájom starej skládky TKO | E62: 0 | F62: 0 | G62: 0 | H62: 0 | I62: 0 | J62: 0 | K62: 0 | L62: 0 | M62: 2 | N62: 2 | O62: 1.75 | P62: =SUM(O62/N62)*100 -> 87.5
B63: 212004 | C63: 41 | D63: Vares B.Bystrica- prenájom TKR | E63: 14550 | F63: 14550 | G63: 14550 | H63: 14550 | I63: 14550 | J63: 14550 | K63: 14550 | L63: 14550 | M63: 14550 | N63: 14550 | O63: 9600.24 | P63: =SUM(O63/N63)*100 -> 65.981031
B64: 212003-10 | C64: 41 | D64: Prenájom tenisových kurtov | E64: 100 | F64: 100 | G64: 100 | H64: 100 | I64: 100 | J64: 100 | K64: 100 | L64: 100 | M64: 0 | N64: 0 | O64: 0 | P64: 0
B65: 212003-12 | C65: 41 | D65: Prenájom budov - Ledrov ( zdravotné str., Ledrov, Dom služieb) - nájomná zmluva | E65: 8493 | F65: 8778 | G65: 8778 | H65: 8778 | I65: 8778 | J65: 8778 | K65: 8778 | L65: 8778 | M65: 8778 | N65: 8778 | O65: 0 | P65: =SUM(O65/N65)*100 -> 0
D66: Spolu | E66: =SUM(E48:E65) -> 92727 | F66: =SUM(F48:F65) -> 93012 | G66: =SUM(G48:G65) -> 93012 | H66: =SUM(H48:H65) -> 93012 | I66: =SUM(I48:I65) -> 93012 | J66: =SUM(J48:J65) -> 93012 | K66: =SUM(K48:K65) -> 93012 | L66: =SUM(L48:L65) -> 93012 | ... O66: =SUM(O48:O65) -> 77850.11 | P66: =SUM(O66/N66)*100 -> 83.642342 | S66: =SUM(N66) -> 93075 | T66: =SUM(O66) -> 77850.11
A67: 220 | D67: III. Administratívne a iné poplatky a platby
A68: 221 | D68: 1. Administratívne poplatky
B69: 221004 | C69: 41 | D69: Správne poplatky, rozkopávky | E69: 2500 | F69: 2500 | G69: 2500 | H69: 2500 | I69: 2500 | J69: 2500 | K69: 2500 | L69: 2500 | M69: 2500 | N69: 2500 | O69: 934.5 | P69: =SUM(O69/N69)*100 -> 37.38
B70: 221004-01 | C70: 41 | D70: - " - - matrika | E70: 3500 | F70: 3500 | G70: 3500 | H70: 3500 | I70: 3500 | J70: 3500 | K70: 3500 | L70: 3500 | M70: 4000 | N70: 4000 | O70: 4603 | P70: =SUM(O70/N70)*100 -> 115.075
B71: 221004-02 | C71: 41 | D71: - " - - výrub stromov | E71: 250 | F71: 250 | G71: 250 | H71: 250 | I71: 250 | J71: 250 | K71: 250 | L71: 250 | M71: 250 | N71: 250 | O71: 20 | P71: =SUM(O71/N71)*100 -> 8
B72: 221004-04 | C72: 41 | D72: poplatky za rybárske lístky | E72: 2000 | F72: 2000 | G72: 2000 | H72: 2000 | I72: 2000 | J72: 2000 | K72: 2000 | L72: 2000 | M72: 2600 | N72: 2600 | O72: 2578 | P72: =SUM(O72/N72)*100 -> 99.153846
B73: 221004-05 | C73: 41 | D73: - " - - stavebný poriadok | E73: 3000 | F73: 3000 | G73: 3000 | H73: 3000 | I73: 3000 | J73: 3000 | K73: 3000 | L73: 3000 | M73: 4000 | N73: 4000 | O73: 3725 | P73: =SUM(O73/N73)*100 -> 93.125
B74: 221004-07 | C74: 41 | D74: Správne poplatky-malý zdroj znečistenia | E74: 100 | F74: 100 | G74: 100 | H74: 100 | I74: 100 | J74: 100 | K74: 100 | L74: 100 | M74: 190 | N74: 190 | O74: 190 | P74: =SUM(O74/N74)*100 -> 100
B75: 221004-06 | C75: 41 | D75: Poplatok za povolenie zábavných hracích prístrojov v obci | E75: 9000 | F75: 9000 | G75: 9000 | H75: 9000 | I75: 9000 | J75: 9000 | K75: 9000 | L75: 9000 | M75: 9000 | N75: 9000 | O75: 3000 | P75: =SUM(O75/N75)*100 -> 33.333333
D76: Spolu | E76: =SUM(E69:E75) -> 20350 | F76: =SUM(F69:F75) -> 20350 | G76: =SUM(G69:G75) -> 20350 | H76: =SUM(H69:H75) -> 20350 | I76: =SUM(I69:I75) -> 20350 | J76: =SUM(J69:J75) -> 20350 | K76: =SUM(K69:K75) -> 20350 | L76: 20350 | M76: =SUM(M69:M75) -> 22540 | N76: =SUM(N69:N75) -> 22540 | O76: =SUM(O69:O75) -> 15050.5 | P76: =SUM(O76/N76)*100 -> 66.772405 | S76: =SUM(N76) -> 22540 | T76: =SUM(O76) -> 15050.5
A77: 223 | D77: 2. Poplatky a platby z nepriem.a náhod.predaja a služieb
B78: 222003 | C78: 41 | D78: Pokuty uložené Obvodným úradom PB-odvod obci | E78: 100 | F78: 100 | G78: 100 | H78: 100 | I78: 100 | J78: 100 | K78: 100 | L78: 100 | M78: 100 | N78: 100 | O78: 192 | P78: =SUM(O78/N78)*100 -> 192
B79: 22003-01 | C79: 41 | D79: Pokuty uložené obecnou políciou-odvod obci | E79: 300 | F79: 300 | G79: 300 | H79: 300 | I79: 300 | J79: 300 | K79: 300 | L79: 300 | M79: 300 | N79: 300 | O79: 120 | P79: =SUM(O79/N79)*100 -> 40
B80: 223001-01 | C80: 41 | D80: Prefakturácia - vodné - VÚB | E80: 130 | F80: 130 | G80: 130 | H80: 130 | I80: 130 | J80: 130 | K80: 130 | L80: 130 | M80: 130 | N80: 130 | O80: 85.85 | P80: =SUM(O80/N80)*100 -> 66.038462
B81: 223001-02 | C81: 41 | D81: - DEL | E81: 91 | F81: 91 | G81: 91 | H81: 91 | I81: 91 | J81: 91 | K81: 91 | L81: 91 | M81: 200 | N81: 200 | O81: 247.2 | P81: =SUM(O81/N81)*100 -> 123.6
B82: 223001-03 | C82: 41 | D82: - LEDROV | E82: 1093 | F82: 1093 | G82: 1093 | H82: 1093 | I82: 1093 | J82: 1093 | K82: 1093 | L82: 1093 | M82: 1093 | N82: 1093 | O82: 153.39 | P82: =SUM(O82/N82)*100 -> 14.033852
B83: 223001-06 | C83: 41 | D83: - VARES, odberné miesta-e.energia TKR | E83: 6381 | F83: 6381 | G83: 6381 | H83: 6381 | I83: 6381 | J83: 6381 | K83: 6381 | L83: 6381 | M83: 6381 | N83: 6381 | O83: 0 | P83: =SUM(O83/N83)*100 -> 0
B84: 223001-11 | C84: 41 | D84: príjmy od občanov za opatrovateľskú službu | E84: 100 | F84: 100 | G84: 100 | H84: 100 | I84: 100 | J84: 100 | K84: 100 | L84: 100 | M84: 300 | N84: 300 | O84: 358.5 | P84: =SUM(O84/N84)*100 -> 119.5
B85: 223001-12 | C85: 41 | D85: zálohy na služ. a vedľajšie poplatky - 20 b.j.I.etapa 248 Súhradka | E85: 23592 | F85: 23592 | G85: 23592 | H85: 23592 | I85: 23592 | J85: 23592 | K85: 23592 | L85: 23592 | M85: 23592 | N85: 23592 | O85: 24224.61 | P85: =SUM(O85/N85)*100 -> 102.68146
B86: 223001-13 | C86: 41 | D86: zálohy na služby a vedľajšie poplatky - 20 b.j.II.etapa č.247, Súhradka | E86: 22416 | F86: 22416 | G86: 22416 | H86: 22416 | I86: 22416 | J86: 22416 | K86: 22416 | L86: 22416 | M86: 22416 | N86: 22416 | O86: 22869.12 | P86: =SUM(O86/N86)*100 -> 102.02141
B87: 223001-14 | C87: 41 | D87: za relácie v miestnom rozhlase | E87: 300 | F87: 300 | G87: 300 | H87: 300 | I87: 300 | J87: 300 | K87: 300 | L87: 300 | M87: 300 | N87: 300 | O87: 423 | P87: =SUM(O87/N87)*100 -> 141
B88: 223001-17 | C88: 41 | D88: za kosenie trávy-občania | E88: 0 | F88: 0 | G88: 0 | H88: 0 | I88: 0 | J88: 0 | K88: 0 | L88: 0 | M88: 50 | N88: 50 | O88: 50 | P88: =SUM(O88/N88)*100 -> 100
B89: 223001-18 | C89: 41 | D89: Prefakturácia el.energie- Lesný komposes.Medné | E89: 300 | F89: 300 | G89: 300 | H89: 300 | I89: 300 | J89: 300 | K89: 300 | L89: 300 | M89: 385 | N89: 385 | O89: 312.1 | P89: =SUM(O89/N89)*100 -> 81.064935
B90: 223001-25 | C90: 41 | D90: Prefakturácia nákladov za prenájom budovy-MŠ, nedopl.za r.2014 a bežný rok | E90: 8126 | F90: 8126 | G90: 8126 | H90: 8126 | I90: 8126 | J90: 8126 | K90: 8126 | L90: 8126 | M90: 8126 | N90: 8126 | O90: 10486.63 | P90: =SUM(O90/N90)*100 -> 129.05033
B91: 223001-23 | C91: 41 | D91: Hotel-Emibar-prefakturácia spotreby plynu | E91: 1500 | F91: 1500 | G91: 1500 | H91: 1500 | I91: 1500 | J91: 1500 | K91: 1500 | L91: 1500 | M91: 1500 | N91: 1500 | O91: 520.62 | P91: =SUM(O91/N91)*100 -> 34.708
B92: 223004 | C92: 41 | D92: poplatky za TKR - prípojky | E92: 0 | F92: 0 | G92: 0 | H92: 0 | I92: 0 | J92: 0 | K92: 0 | L92: 0 | M92: 0 | N92: 0 | O92: 0 | P92: 0
B93: 223001-32 | C93: 41 | D93: Príspevok z Recyklačného fondu-odpady | E93: 2500 | F93: 2500 | G93: 2500 | H93: 2500 | I93: 2500 | J93: 2500 | K93: 2500 | L93: 2500 | M93: 2500 | N93: 2500 | O93: 648 | P93: =SUM(O93/N93)*100 -> 25.92
B94: 223001-35 | C94: 41 | D94: Metal servis-za zneškod.elektroodpadu | E94: 2400 | F94: 2400 | G94: 2400 | H94: 2400 | I94: 2400 | J94: 2400 | K94: 2400 | L94: 2400 | M94: 2400 | N94: 2400 | O94: 2098.58 | P94: =SUM(O94/N94)*100 -> 87.440833
B95: 223001-33 | C95: 41 | D95: Spoluúčasť na kanalizač.prípojkách-U duba,Medňanská-doplatky | E95: 0 | F95: 0 | G95: 0 | H95: 0 | I95: 0 | J95: 0 | K95: 0 | L95: 0 | M95: 0 | N95: 0 | O95: 0 | P95: 0
B96: 223001-58 | C96: 41 | D96: Prefakturácia- odpredaj smetných nádob | E96: 2000 | F96: 2000 | G96: 2000 | H96: 2000 | I96: 2000 | J96: 2000 | K96: 2000 | L96: 2000 | M96: 2000 | N96: 2000 | O96: 1056.4 | P96: =SUM(O96/N96)*100 -> 52.82
B97: 223001-36 | C97: 41 | D97: DCA-prefakturácia nákl. na vodu vo VS č.4 Majerská | E97: 55 | F97: 55 | G97: 55 | H97: 55 | I97: 55 | J97: 55 | K97: 55 | L97: 55 | M97: 102 | N97: 102 | O97: 165.59 | P97: =SUM(O97/N97)*100 -> 162.34314
B98: 223001-10 | C98: 41 | D98: Prefakt.za geometric.plány-Cig.jarok-garáže a ostatné | E98: 0 | F98: 0 | G98: 0 | H98: 0 | I98: 0 | J98: 0 | K98: 0 | L98: 0 | M98: 86 | N98: 86 | O98: 86.3 | P98: =SUM(O98/N98)*100 -> 100.34884
B99: 223001-11 | C99: 41 | D99: ĽšU LR-dobropis el.energia za r.2013,2014 | E99: 0 | F99: 0 | G99: 0 | H99: 0 | I99: 0 | J99: 3080 | K99: 3080 | L99: 3080 | M99: 4717 | N99: 4717 | O99: 4716.52 | P99: =SUM(O99/N99)*100 -> 99.989824
B100: 223001-61 | C100: 41 | D100: Služby-kopírovanie | E100: 0 | F100: 0 | G100: 0 | H100: 0 | I100: 0 | J100: 0 | K100: 0 | L100: 0 | M100: 10 | N100: 10 | O100: 0.7 | P100: =SUM(O100/N100)*100 -> 7
B101: 223001-62 | C101: 41 | D101: Prefakturácia-plyn, voda a el.energia-INFOcentrum LR | E101: 0 | F101: 0 | G101: 0 | H101: 0 | I101: 0 | J101: 0 | K101: 0 | L101: 0 | M101: 1500 | N101: 1500 | O101: 0 | P101: =SUM(O101/N101)*100 -> 0
B102: 223001-62 | C102: 41 | D102: Prefakturácia-znalecké posudky pri predajocha kolkov | E102: 0 | F102: 0 | G102: 0 | H102: 0 | I102: 0 | J102: 0 | K102: 0 | L102: 0 | M102: 150 | N102: 150 | O102: 191 | P102: =SUM(O102/N102)*100 -> 127.33333
B103: 223001-64 | C103: 41 | D103: Preplatky z RZ-soc.poisťovňa-za zamestnávateľa | E103: 0 | F103: 0 | G103: 0 | H103: 0 | I103: 0 | J103: 0 | K103: 0 | L103: 0 | M103: 0 | N103: 0 | O103: 574.27 | P103: 0
B104: 223001-65 | C104: 41 | D104: DHZ LR-náhrada za spotrebu PHM | E104: 0 | F104: 0 | G104: 0 | H104: 0 | I104: 0 | J104: 0 | K104: 0 | L104: 0 | M104: 0 | N104: 0 | O104: 44.2 | P104: 0
...
