Workbook

Sheet Výdavky 1-12 2015
D1: Čerpanie programového rozpočtu obce Lednické Rovne za obdobie 01 - 12/2015 | P1: Príloha č.1
E3: Funkčná a ekonomická klasifikácia výdavkov , v eurách
A4: Pod | B4: Podtrieda | C4: Rozpočtová | D4: Kód | F4: Pôvodný | G4: I.úprava | H4: II.úprava | I4: III.úprava | J4: IV.úprava | K4: V.úprava | L4: VI.úprava | M4: VII.úprava | N4: VIII.úprava | O4: IX.úprava | P4: Čerpanie | Q4: % plnenia rozp.
A5: prog | B5: funkčnej | C5: položka | D5: zdroja | E5: Text | F5: rozpočet | G5: rozpočtu | H5: rozpočtu | I5: rozpočtu | J5: rozpočtu | K5: rozpočtu | L5: rozpočtu | M5: rozpočtu | N5: rozpočtu | O5: rozpočtu | P5: rozpočtu | Q5: z posl.úpravy
A6: ram | B6: klasifi | F6: r.2015 | G6: za r.2015 | H6: za r.2015 | I6: za r.2015 | J6: za r.2015 | K6: za r.2015 | L6: za r.2015 | M6: za r.2015 | N6: za r.2015 | O6: za r.2015 | P6: za 1-12/2015 | Q6: za r.2015
B7: kácie | F7: v € | G7: v € | H7: v € | I7: v € | J7: v € | K7: v € | L7: v € | M7: v € | N7: v € | O7: v € | P7: v € | Q7: v €
E8: Bežné výdavky podľa programov
A9: Program 1 : Plánovanie, manažment a kontrola
B10: Podprogram 1.1: Činnosť a prevádzka obecného úradu
E11: Všeobecné verejné služby
A12: 1.1. | B12: 01,1,1 | C12: 611 | D12: 41 | E12: Správa OcÚ - mzdy financované z rozp.obce | F12: 150866 | G12: 142866 | H12: 142866 | I12: 142866 | J12: 142866 | K12: 142866 | L12: 142866 | M12: 142866 | N12: 142866 | O12: 142866 | P12: 134501.29 | Q12: =SUM(P12/O12)*100 -> 94.145066
C13: 621-625007 | D13: 41 | E13: - odvody do fondov-fin.z rozp.obce | F13: 52728 | G13: 49728 | H13: 49728 | I13: 49728 | J13: 49728 | K13: 49728 | L13: 49728 | M13: 49728 | N13: 49728 | O13: 49728 | P13: 48437.79 | Q13: =SUM(P13/O13)*100 -> 97.405466
C14: 611-01 | D14: 41 | E14: Zeleň - mzdy fin. z rozp. obce | F14: 48019 | G14: 48019 | H14: 48019 | I14: 48019 | J14: 48019 | K14: 48019 | L14: 48019 | M14: 48019 | N14: 48019 | O14: 48019 | P14: 49170.66 | Q14: =SUM(P14/O14)*100 -> 102.39834
C15: 611-02 | D15: 111 | E15: Pren.výkon št.spr.-ochrana prírody,ovzdušia-mzdy fin.ŠR | F15: 423 | G15: 423 | H15: 423 | I15: 423 | J15: 423 | K15: 423 | L15: 423 | M15: 423 | N15: 383 | O15: 383 | P15: 383.31 | Q15: =SUM(P15/O15)*100 -> 100.08094
C16: 621-625007 | D16: 41 | E16: Zeleň - odvody do fondov - fin.z rozp. obce | F16: 16931 | G16: 16931 | H16: 16931 | I16: 16931 | J16: 16931 | K16: 16931 | L16: 16931 | M16: 16931 | N16: 16931 | O16: 16931 | P16: 16693.37 | Q16: =SUM(P16/O16)*100 -> 98.59648
C17: 625 | D17: 41 | E17: Správa OcU-sociálne-odvody z dohody o prac.činn. | F17: 517 | G17: 517 | H17: 517 | I17: 517 | J17: 517 | K17: 517 | L17: 517 | M17: 517 | N17: 710 | O17: 710 | P17: 709.61 | Q17: =SUM(P17/O17)*100 -> 99.94507
C18: 625 | D18: 41 | E18: Správa OcU-evid.obyvateľstva-odvody z dohody o prac.činn. | F18: 0 | G18: 0 | H18: 0 | I18: 0 | J18: 0 | K18: 0 | L18: 0 | M18: 0 | N18: 147 | O18: 147 | P18: 195.48 | Q18: =SUM(P18/O18)*100 -> 132.97959
C19: 631001 | D19: 41 | E19: Správa OcÚ - cestovné náhrady | F19: 150 | G19: 150 | H19: 150 | I19: 150 | J19: 150 | K19: 150 | L19: 150 | M19: 150 | N19: 200 | O19: 200 | P19: 157.39 | Q19: =SUM(P19/O19)*100 -> 78.695
C20: 631003 | D20: 41 | E20: - parkovné | F20: 150 | G20: 150 | H20: 150 | I20: 150 | J20: 150 | K20: 150 | L20: 150 | M20: 150 | N20: 150 | O20: 150 | P20: 139.14 | Q20: =SUM(P20/O20)*100 -> 92.76
C21: 632001 | D21: 41 | E21: - el. energia | F21: 4980 | G21: 4980 | H21: 4980 | I21: 4980 | J21: 4980 | K21: 4980 | L21: 4980 | M21: 4980 | N21: 2763 | O21: 2763 | P21: 2762.72 | Q21: =SUM(P21/O21)*100 -> 99.989866
C22: 632001-01 | D22: 41 | E22: Zeleň,odpadové hospodárstvo- el. energia | F22: 1330 | G22: 1330 | H22: 1330 | I22: 1330 | J22: 1330 | K22: 1330 | L22: 1330 | M22: 1330 | N22: 1302 | O22: 1302 | P22: 1302.33 | Q22: =SUM(P22/O22)*100 -> 100.02535
C23: 632001-03 | D23: 41 | E23: Správa OcÚ, hotel - plyn | F23: 8300 | G23: 8300 | H23: 8300 | I23: 8300 | J23: 8300 | K23: 8300 | L23: 8300 | M23: 8300 | N23: 8300 | O23: 8300 | P23: 7227.98 | Q23: =SUM(P23/O23)*100 -> 87.084096
C24: 632001-04 | D24: 41 | E24: Zeleň - plyn,uhlie | F24: 1990 | G24: 1990 | H24: 1990 | I24: 1990 | J24: 1990 | K24: 1990 | L24: 1990 | M24: 1990 | N24: 1990 | O24: 1990 | P24: 1080.37 | Q24: =SUM(P24/O24)*100 -> 54.28995
C25: 632001-05 | D25: 41 | E25: Správa OcÚ - vodné | F25: 660 | G25: 660 | H25: 660 | I25: 660 | J25: 660 | K25: 660 | L25: 660 | M25: 660 | N25: 660 | O25: 660 | P25: 649.67 | Q25: =SUM(P25/O25)*100 -> 98.434848
C26: 632001-06 | D26: 41 | E26: Zrážková voda v obci | F26: 760 | G26: 760 | H26: 760 | I26: 760 | J26: 760 | K26: 760 | L26: 760 | M26: 760 | N26: 760 | O26: 760 | P26: 790.28 | Q26: =SUM(P26/O26)*100 -> 103.98421
C27: 632001-07 | D27: 41 | E27: Zeleň,odpadové hospodárstvo - vodné | F27: 430 | G27: 430 | H27: 430 | I27: 430 | J27: 430 | K27: 430 | L27: 430 | M27: 430 | N27: 430 | O27: 430 | P27: 153.13 | Q27: =SUM(P27/O27)*100 -> 35.611628
C28: 632003 | D28: 41 | E28: Správa OcÚ - telef.popl. | F28: 5000 | G28: 5000 | H28: 5000 | I28: 5000 | J28: 5000 | K28: 5000 | L28: 5000 | M28: 5000 | N28: 5000 | O28: 5000 | P28: 3719.26 | Q28: =SUM(P28/O28)*100 -> 74.3852
C29: 632003-01 | D29: 41 | E29: Zeleň - telef.popl. | F29: 300 | G29: 300 | H29: 300 | I29: 300 | J29: 300 | K29: 300 | L29: 300 | M29: 300 | N29: 300 | O29: 300 | P29: 251.89 | Q29: =SUM(P29/O29)*100 -> 83.963333
C30: 632003-03 | D30: 41 | E30: Správa OcÚ - pošt.služby,známky, rozvoz letákov | F30: 2100 | G30: 2100 | H30: 2100 | I30: 2100 | J30: 2100 | K30: 2100 | L30: 2100 | M30: 2100 | N30: 2100 | O30: 2100 | P30: 1519.8 | Q30: =SUM(P30/O30)*100 -> 72.371429
C31: 633001 | D31: 41 | E31: Správa OcÚ - kanc.stolička a vybavenie | F31: 0 | G31: 0 | H31: 0 | I31: 0 | J31: 0 | K31: 0 | L31: 0 | M31: 0 | N31: 639 | O31: 639 | P31: 993.19 | Q31: =SUM(P31/O31)*100 -> 155.42879
C32: 633003 | D32: 41 | E32: Správa OcÚ - zabezpečovací systém-signalizácia | F32: 0 | G32: 0 | H32: 1243 | I32: 1243 | J32: 1243 | K32: 1243 | L32: 1243 | M32: 1243 | N32: 1243 | O32: 1243 | P32: 1242.97 | Q32: =SUM(P32/O32)*100 -> 99.997586
C33: 633004 | D33: 41 | E33: Zeleň-nákup elektrocentrály, krovinorez | F33: 0 | G33: 0 | H33: 0 | I33: 0 | J33: 0 | K33: 0 | L33: 0 | M33: 0 | N33: 1526 | O33: 1526 | P33: 2315.5 | Q33: =SUM(P33/O33)*100 -> 151.73657
C34: 633006-01 | D34: 41 | E34: Správa OcÚ - kanc.potreby, OZ-plánov.kalendáre | F34: 1940 | G34: 1940 | H34: 1940 | I34: 1940 | J34: 1940 | K34: 1940 | L34: 1940 | M34: 1940 | N34: 1940 | O34: 1940 | P34: 2127.99 | Q34: =SUM(P34/O34)*100 -> 109.69021
C35: 633006-02 | D35: 41 | E35: - kanc.papier | F35: 700 | G35: 700 | H35: 700 | I35: 700 | J35: 700 | K35: 700 | L35: 700 | M35: 700 | N35: 700 | O35: 700 | P35: 463.18 | Q35: =SUM(P35/O35)*100 -> 66.168571
C36: 633002 | D36: 41 | E36: -nákup tlačiarne a repasov.výpočt.techniky | F36: 2000 | G36: 2000 | H36: 2000 | I36: 2000 | J36: 2000 | K36: 2000 | L36: 2000 | M36: 2000 | N36: 2000 | O36: 2000 | P36: 1487.54 | Q36: =SUM(P36/O36)*100 -> 74.377
C37: 633006-03 | D37: 41 | E37: Zeleň - všeobecný materiál, pracovné náradie | F37: 2000 | G37: 2000 | H37: 2000 | I37: 2000 | J37: 2000 | K37: 2000 | L37: 2000 | M37: 2000 | N37: 2000 | O37: 2000 | P37: 1008.28 | Q37: =SUM(P37/O37)*100 -> 50.414
C38: 633006 | D38: 41 | E38: Správa OcÚ-všeobecný materiál | F38: 650 | G38: 650 | H38: 650 | I38: 650 | J38: 650 | K38: 650 | L38: 650 | M38: 650 | N38: 650 | O38: 650 | P38: 727.44 | Q38: =SUM(P38/O38)*100 -> 111.91385
C39: 633006-04 | D39: 41 | E39: Správa OcÚ-čistiace,pracovné prostriedky | F39: 168 | G39: 168 | H39: 168 | I39: 168 | J39: 168 | K39: 168 | L39: 168 | M39: 168 | N39: 168 | O39: 168 | P39: 332.74 | Q39: =SUM(P39/O39)*100 -> 198.05952
C40: 633006-05 | D40: 41 | E40: Zeleň-ochran.pracovné prostriedky | F40: 660 | G40: 660 | H40: 660 | I40: 660 | J40: 660 | K40: 660 | L40: 660 | M40: 660 | N40: 660 | O40: 660 | P40: 996.02 | Q40: =SUM(P40/O40)*100 -> 150.91212
C41: 633009 | D41: 41 | E41: Správa OcÚ - tlačivá, publikácie | F41: 1000 | G41: 1000 | H41: 1000 | I41: 1000 | J41: 1000 | K41: 1000 | L41: 1000 | M41: 1000 | N41: 87 | O41: 87 | P41: 263.17 | Q41: =SUM(P41/O41)*100 -> 302.49425
...

Sheet Príjmy 1-12 2015
D1: Čerpanie programového rozpočtu obce Lednické Rovne za obdobie 01 - 12/2015 | O1: Príloha č.1
A3: Funkčná a ekonomická klasifikácia príjmov , v eurách
A4: Usmernenie ku kódovaniu zdrojov pri uskutočnených príjmoch a výdavkoch rozpočtových
A5: prostriedkov obce.
A6: Kód zdroja 111- finančné prostriedky poskytnuté zo štátneho rozpočtu prostredníctvom transferov
A7: a výdavky uskutoč. z týchto prostriedkov, fin. prostriedky zo ŠR na prenesený výkon štátnej správy.
A8: Kód zdroja 11H - finančné prostriedky získané z darov, grantov a ich použitie vo výdavkoch
A9: Kód zdroja 52- prijaté bankové úvery obcou a ich čerpanie vo výdavkoch
A10: Kód zdroja 41- príjmy z daní a poplatkov, príjmy z prenájmu a služieb, podielové dane a následne uskutočnené výdavky z týchto prostriedkov
A11: Kód zdroja 43 - príjmy z predaja majetku obce a následné použitie týchto prostriedkov na uskutočnené kapitálové výdavky
A12: Kód zdroja 1318- prebytok hospodárenia za uplynulý rok-nevyčerpané dotácie
A13: Kód zdroja 46- iné zdroje-prebytok hospodárenia za uplynulý rok
A14: Kód zdroja 11K1- dotácie z európ.fondu reg.rozvoja, so spoluúčasťou zo ŠR
... A16: Kód zdroja 1AC2- dotácie ÚPSVaR-park
D17: Bežné príjmy
A18: Rozpoč. | B18: Rozpočtová | C18: Kód | E18: Pôvodný | F18: I.úprava | G18: II.úprava | H18: III.úprava | I18: IV.úprava | J18: V.úprava | K18: VI.úprava | L18: VII.úprava | M18: VIII.úprava | N18: IX.úprava | O18: Čerpanie | P18: % plnenia rozp.
A19: položka | B19: podpoložka | C19: zdroja | D19: Text | E19: rozpočet | F19: rozpočtu | G19: rozpočtu | H19: rozpočtu | I19: rozpočtu | J19: rozpočtu | K19: rozpočtu | L19: rozpočtu | M19: rozpočtu | N19: rozpočtu | O19: rozpočtu | P19: z posl.úpravy
E20: r.2015 | F20: za r.2015 | G20: za r.2015 | H20: za r.2015 | I20: za r.2015 | J20: za r.2015 | K20: za r.2015 | L20: za r.2015 | M20: za r.2015 | N20: za r.2015 | O20: za 1-12/2015 | P20: za r.2015
E21: v € | F21: v € | G21: v € | H21: v € | I21: v € | J21: v € | K21: v € | L21: v € | M21: v € | N21: v € | O21: v € | P21: v €
A24: 100 | D24: A) DAŇOVÉ PRÍJMY
A25: 110 | D25: Dane z príjmov, ziskov a kapitálového majetku od FO,PO
A26: 111 | D26: Daň z príjmov fyzických osôb
B27: 111003 | C27: 41 | D27: Výnos dane z príjmov poukázaný územnej samospráve | E27: 871944 | F27: 880937 | G27: 937061 | H27: 937061 | I27: 947378 | J27: 947378 | K27: 947378 | L27: 947378 | M27: 963970 | N27: 963970 | O27: 958724.07 | P27: =SUM(O27/N27)*100 -> 99.455799
D28: Spolu | E28: =SUM(E27) -> 871944 | F28: =SUM(F27) -> 880937 | G28: =SUM(G27) -> 937061 | H28: =SUM(H27) -> 937061 | I28: =SUM(I27) -> 947378 | J28: =SUM(J27) -> 947378 | K28: =SUM(K27) -> 947378 | L28: =SUM(L27) -> 947378 | ... O28: =SUM(O27) -> 958724.07 | P28: =SUM(O28/N28)*100 -> 99.455799 | S28: =SUM(N28) -> 963970 | T28: =SUM(O28) -> 958724.07
A29: 120 | D29: Daň z majetku
B30: 121001 | C30: 41 | D30: Daň z nehnuteľností - pozemky | E30: 12000 | F30: 12000 | G30: 12000 | H30: 12000 | I30: 12000 | J30: 12000 | K30: 12000 | L30: 12000 | M30: 12000 | N30: 12000 | O30: 11870.68 | P30: =SUM(O30/N30)*100 -> 98.922333
B31: 121002 | C31: 41 | D31: Daň z nehnuteľností - stavby | E31: 220000 | F31: 220000 | G31: 220000 | H31: 220000 | I31: 220000 | J31: 220000 | K31: 220000 | L31: 220000 | M31: 220000 | N31: 220000 | O31: 224814.09 | P31: =SUM(O31/N31)*100 -> 102.18822
D32: Spolu | E32: =SUM(E30:E31) -> 232000 | F32: =SUM(F30:F31) -> 232000 | G32: =SUM(G30:G31) -> 232000 | H32: =SUM(H30:H31) -> 232000 | I32: =SUM(I30:I31) -> 232000 | J32: =SUM(J30:J31) -> 232000 | K32: =SUM(K30:K31) -> 232000 | L32: =SUM(L30:L31) -> 232000 | ... O32: =SUM(O30:O31) -> 236684.77 | P32: =SUM(O32/N32)*100 -> 102.0193 | S32: =SUM(N32) -> 232000 | T32: =SUM(O32) -> 236684.77
A33: 133 | D33: Dane za špecifické služby
B34: 133001 | C34: 41 | D34: Daň - za psa | E34: 1000 | F34: 1000 | G34: 1000 | H34: 1000 | I34: 1000 | J34: 1000 | K34: 1000 | L34: 1000 | M34: 1000 | N34: 1000 | O34: 1106.68 | P34: =SUM(O34/N34)*100 -> 110.668
B35: 133012 | C35: 41 | D35: Daň za užívanie verej.priestranstva-tržnica | E35: 40 | F35: 40 | G35: 40 | H35: 40 | I35: 40 | J35: 40 | K35: 40 | L35: 40 | M35: 100 | N35: 100 | O35: 146.15 | P35: =SUM(O35/N35)*100 -> 146.15
B36: 133006 | C36: 41 | D36: Daň za ubytovanie | E36: 60 | F36: 60 | G36: 60 | H36: 60 | I36: 60 | J36: 60 | K36: 60 | L36: 60 | M36: 60 | N36: 60 | O36: 53.13 | P36: =SUM(O36/N36)*100 -> 88.55
B37: 133012-01 | C37: 41 | D37: Daň za užívanie verej.priestranstva-unimobunky | E37: 0 | F37: 0 | G37: 0 | H37: 0 | I37: 0 | J37: 0 | K37: 0 | L37: 0 | M37: 233 | N37: 233 | O37: 604.76 | P37: =SUM(O37/N37)*100 -> 259.55365
B38: 133013-01 | C38: 41 | D38: Miestny poplatok za komunálny odpad - FO | E38: 78700 | F38: 78700 | G38: 78700 | H38: 78700 | I38: 78700 | J38: 78700 | K38: 78700 | L38: 78700 | M38: 78700 | N38: 78700 | O38: 72542.94 | P38: =SUM(O38/N38)*100 -> 92.176544
B39: 133013-02 | C39: 41 | D39: Miestny poplatok za komunálny odpad - PO | E39: 17712 | F39: 17712 | G39: 17712 | H39: 17712 | I39: 17712 | J39: 17712 | K39: 17712 | L39: 17712 | M39: 17712 | N39: 17712 | O39: 19982.69 | P39: =SUM(O39/N39)*100 -> 112.82007
B40: 133013-04 | C40: 41 | D40: Poplatky za uloženie odpadu na skládku Podstránie-Megawaste | E40: 82100 | F40: 82100 | G40: 82100 | H40: 82100 | I40: 82100 | J40: 82100 | K40: 82100 | L40: 82100 | M40: 82100 | N40: 82100 | O40: 68346.52 | P40: =SUM(O40/N40)*100 -> 83.247893
B41: 134001 | C41: 41 | D41: Obv.ban.úrad-z vyť.ner.surovín-DP Beluša | E41: 101 | F41: 101 | G41: 101 | H41: 101 | I41: 101 | J41: 101 | K41: 101 | L41: 101 | M41: 101 | N41: 101 | O41: 101.18 | P41: =SUM(O41/N41)*100 -> 100.17822
D42: Spolu | E42: =SUM(E34:E41) -> 179713 | F42: =SUM(F34:F41) -> 179713 | G42: =SUM(G34:G41) -> 179713 | H42: =SUM(H34:H41) -> 179713 | I42: =SUM(I34:I41) -> 179713 | J42: =SUM(J34:J41) -> 179713 | K42: =SUM(K34:K41) -> 179713 | L42: 179713 | M42: =SUM(M34:M41) -> 180006 | N42: =SUM(N34:N41) -> 180006 | O42: =SUM(O34:O41) -> 162884.05 | P42: =SUM(O42/N42)*100 -> 90.488123 | S42: =SUM(N42) -> 180006 | T42: =SUM(O42) -> 162884.05
A43: 200 | D43: B) NEDAŇOVÉ PRÍJMY
A44: 211 | D44: I. Príjmy z podnikania
...
